BEGIN:VCALENDAR
VERSION:2.0
PRODID:-//MassHire Springfield Career Center - ECPv6.15.20//NONSGML v1.0//EN
CALSCALE:GREGORIAN
METHOD:PUBLISH
X-ORIGINAL-URL:https://masshirespringfield.org
X-WR-CALDESC:Events for MassHire Springfield Career Center
REFRESH-INTERVAL;VALUE=DURATION:PT1H
X-Robots-Tag:noindex
X-PUBLISHED-TTL:PT1H
BEGIN:VTIMEZONE
TZID:America/New_York
BEGIN:DAYLIGHT
TZOFFSETFROM:-0500
TZOFFSETTO:-0400
TZNAME:EDT
DTSTART:20250309T070000
END:DAYLIGHT
BEGIN:STANDARD
TZOFFSETFROM:-0400
TZOFFSETTO:-0500
TZNAME:EST
DTSTART:20251102T060000
END:STANDARD
BEGIN:DAYLIGHT
TZOFFSETFROM:-0500
TZOFFSETTO:-0400
TZNAME:EDT
DTSTART:20260308T070000
END:DAYLIGHT
BEGIN:STANDARD
TZOFFSETFROM:-0400
TZOFFSETTO:-0500
TZNAME:EST
DTSTART:20261101T060000
END:STANDARD
BEGIN:DAYLIGHT
TZOFFSETFROM:-0500
TZOFFSETTO:-0400
TZNAME:EDT
DTSTART:20270314T070000
END:DAYLIGHT
BEGIN:STANDARD
TZOFFSETFROM:-0400
TZOFFSETTO:-0500
TZNAME:EST
DTSTART:20271107T060000
END:STANDARD
END:VTIMEZONE
BEGIN:VEVENT
DTSTART;TZID=America/New_York:20260413T140000
DTEND;TZID=America/New_York:20260413T150000
DTSTAMP:20260422T072434
CREATED:20260319T152734Z
LAST-MODIFIED:20260319T152734Z
UID:20002907-1776088800-1776092400@masshirespringfield.org
SUMMARY:Resume Questions and Answers-Subtitulos en Español
DESCRIPTION:This session is a live webinar.“Should my resume be one page or two?” “How do I explain the years I was unemployed?” “Do I really have to change my resume for each job?” These are just some of the many resume questions we hear\, and we know there are many more. Join us for guidelines\, tips\, and the latest resume trends. (We recommend bringing your resume and a question or two you’d like answered.)\n Esta sesión es un seminario web en vivo.  “¿Mi currículum debe tener una página o dos?” “¿Cómo explico los años que estuve desempleado?” “¿Realmente tengo que cambiar mi currículum para cada trabajo?” Estas son sólo algunas de las muchas preguntas sobre currículums que escuchamos y sabemos que hay muchas más. Únase a nosotros para obtener pautas\, consejos y las últimas tendencias en currículums. (Recomendamos traer su currículum y una o dos preguntas que le gustaría responder). \nINSTRUCTIONS\n•	Sign up for this webinar using your Job Seeker ID # at: https://attendee.gotowebinar.com/rt/1175837980039932768\n•	If you do not know or have a Job Seeker ID#:\n1.	Please go to JobQuest at: http://www.mass.gov/jobquest to obtain an ID#. (CTRL+Click on the http://www.mass.gov/jobquest link to open in a new tab).\n2.	Return here to complete the registration using the link in the first bullet to receive credit for attending the webinar.\n•	Watch for your registration confirmation email and follow the instructions provided.
URL:https://masshirespringfield.org/event/resume-questions-and-answers-subtitulos-en-espanol-79/
CATEGORIES:Online
END:VEVENT
BEGIN:VEVENT
DTSTART;TZID=America/New_York:20260413T170000
DTEND;TZID=America/New_York:20260413T180000
DTSTAMP:20260422T072434
CREATED:20260327T132200Z
LAST-MODIFIED:20260327T135000Z
UID:20002942-1776099600-1776103200@masshirespringfield.org
SUMMARY:Writing with a Purpose
DESCRIPTION:Writing is a critical skill in the workplace.  Being able to express your thoughts clearly\, concisely and in a positive manner will go a long way in promoting your professional credibility.  We will explore how to create effective emails\, informative reports\, and appropriate digital media messages. Do not miss this important session. \nINSTRUCTIONS\n• Sign up for this webinar using your Job Seeker ID # at: https://attendee.gotowebinar.com/rt/433358668586768215\n• If you do not know or have a Job Seeker ID#:\n1. Please go to JobQuest at: http://www.mass.gov/jobquest to obtain an ID#. (CTRL+Click on the http://www.mass.gov/jobquest link to open in a new tab).\n2. Return here to complete the registration using the link in the first bullet to receive credit for attending the webinar.\n• Watch for your registration confirmation email and follow the instructions provided.
URL:https://masshirespringfield.org/event/writing-with-a-purpose-16/
CATEGORIES:Online
END:VEVENT
END:VCALENDAR