BEGIN:VCALENDAR
VERSION:2.0
PRODID:-//MassHire Springfield Career Center - ECPv6.15.20//NONSGML v1.0//EN
CALSCALE:GREGORIAN
METHOD:PUBLISH
X-ORIGINAL-URL:https://masshirespringfield.org
X-WR-CALDESC:Events for MassHire Springfield Career Center
REFRESH-INTERVAL;VALUE=DURATION:PT1H
X-Robots-Tag:noindex
X-PUBLISHED-TTL:PT1H
BEGIN:VTIMEZONE
TZID:America/New_York
BEGIN:DAYLIGHT
TZOFFSETFROM:-0500
TZOFFSETTO:-0400
TZNAME:EDT
DTSTART:20250309T070000
END:DAYLIGHT
BEGIN:STANDARD
TZOFFSETFROM:-0400
TZOFFSETTO:-0500
TZNAME:EST
DTSTART:20251102T060000
END:STANDARD
BEGIN:DAYLIGHT
TZOFFSETFROM:-0500
TZOFFSETTO:-0400
TZNAME:EDT
DTSTART:20260308T070000
END:DAYLIGHT
BEGIN:STANDARD
TZOFFSETFROM:-0400
TZOFFSETTO:-0500
TZNAME:EST
DTSTART:20261101T060000
END:STANDARD
BEGIN:DAYLIGHT
TZOFFSETFROM:-0500
TZOFFSETTO:-0400
TZNAME:EDT
DTSTART:20270314T070000
END:DAYLIGHT
BEGIN:STANDARD
TZOFFSETFROM:-0400
TZOFFSETTO:-0500
TZNAME:EST
DTSTART:20271107T060000
END:STANDARD
END:VTIMEZONE
BEGIN:VEVENT
DTSTART;VALUE=DATE:20260420
DTEND;VALUE=DATE:20260421
DTSTAMP:20260424T055131
CREATED:20260120T144936Z
LAST-MODIFIED:20260120T144936Z
UID:20002771-1776643200-1776729599@masshirespringfield.org
SUMMARY:CLOSED | Patriots' Day
DESCRIPTION:
URL:https://masshirespringfield.org/event/closed-patriots-day/
LOCATION:MassHire Springfield Career Center\, 95 Liberty Street\, 3rd Floor\, Springfield\, MA\, 01103\, United States
CATEGORIES:Closed
END:VEVENT
BEGIN:VEVENT
DTSTART;TZID=America/New_York:20260420T160000
DTEND;TZID=America/New_York:20260420T170000
DTSTAMP:20260424T055131
CREATED:20260319T152750Z
LAST-MODIFIED:20260319T152750Z
UID:20002913-1776700800-1776704400@masshirespringfield.org
SUMMARY:Mature Workers-Preparing for Today's Job Search-Subtitulos en Español
DESCRIPTION:More people work later in life than ever before. We’ll cover resumes\, interviews\, ageism\, helpful resources\, and the value of older workers. Learn about this important stage in your life and career.\nMás personas trabajan más tarde en la vida que nunca. Cubriremos currículos\, entrevistas\, discriminación por edad\, recursos útiles y el valor de los trabajadores mayores. Aprende sobre esta etapa tan importante en tu vida y carrera. \nINSTRUCTIONS\n•	Sign up for this webinar using your Job Seeker ID # at: https://attendee.gotowebinar.com/rt/3374274096378019680\n•	If you do not know or have a Job Seeker ID#:\n1.	Please go to JobQuest at: http://www.mass.gov/jobquest to obtain an ID#. (CTRL+Click on the http://www.mass.gov/jobquest link to open in a new tab).\n2.	Return here to complete the registration using the link in the first bullet to receive credit for attending the webinar.\n•	Watch for your registration confirmation email and follow the instructions provided.
URL:https://masshirespringfield.org/event/mature-workers-preparing-for-todays-job-search-subtitulos-en-espanol-86/
CATEGORIES:Online
END:VEVENT
END:VCALENDAR