BEGIN:VCALENDAR
VERSION:2.0
PRODID:-//MassHire Springfield Career Center - ECPv6.15.20//NONSGML v1.0//EN
CALSCALE:GREGORIAN
METHOD:PUBLISH
X-WR-CALNAME:MassHire Springfield Career Center
X-ORIGINAL-URL:https://masshirespringfield.org
X-WR-CALDESC:Events for MassHire Springfield Career Center
REFRESH-INTERVAL;VALUE=DURATION:PT1H
X-Robots-Tag:noindex
X-PUBLISHED-TTL:PT1H
BEGIN:VTIMEZONE
TZID:America/New_York
BEGIN:DAYLIGHT
TZOFFSETFROM:-0500
TZOFFSETTO:-0400
TZNAME:EDT
DTSTART:20250309T070000
END:DAYLIGHT
BEGIN:STANDARD
TZOFFSETFROM:-0400
TZOFFSETTO:-0500
TZNAME:EST
DTSTART:20251102T060000
END:STANDARD
BEGIN:DAYLIGHT
TZOFFSETFROM:-0500
TZOFFSETTO:-0400
TZNAME:EDT
DTSTART:20260308T070000
END:DAYLIGHT
BEGIN:STANDARD
TZOFFSETFROM:-0400
TZOFFSETTO:-0500
TZNAME:EST
DTSTART:20261101T060000
END:STANDARD
BEGIN:DAYLIGHT
TZOFFSETFROM:-0500
TZOFFSETTO:-0400
TZNAME:EDT
DTSTART:20270314T070000
END:DAYLIGHT
BEGIN:STANDARD
TZOFFSETFROM:-0400
TZOFFSETTO:-0500
TZNAME:EST
DTSTART:20271107T060000
END:STANDARD
END:VTIMEZONE
BEGIN:VEVENT
DTSTART;TZID=America/New_York:20260421T100000
DTEND;TZID=America/New_York:20260421T120000
DTSTAMP:20260421T055849
CREATED:20260407T194520Z
LAST-MODIFIED:20260407T194520Z
UID:20002950-1776765600-1776772800@masshirespringfield.org
SUMMARY:HIRING - Balance Staffing Partners
DESCRIPTION:Hiring\, Available Positions: Production Workers\, CNC Machinist\, Machine Operators\, Maintenance Technician\, Production Workers\,  And Much More.  Please Stop By To Meet With Representative From Balance Staffing Partners\, 95 Liberty Street\, 3rd Floor\,  Springfield\, MA
URL:https://masshirespringfield.org/event/hiring-balance-staffing-partners/
CATEGORIES:Recruitment
END:VEVENT
BEGIN:VEVENT
DTSTART;TZID=America/New_York:20260421T160000
DTEND;TZID=America/New_York:20260421T170000
DTSTAMP:20260421T055849
CREATED:20260327T132141Z
LAST-MODIFIED:20260327T135623Z
UID:20002936-1776787200-1776790800@masshirespringfield.org
SUMMARY:Better Together: Collaboration and Teamwork
DESCRIPTION:In just one hour you discover how being a great team member can quickly advance your career.  You will learn how to use your personal strengths to improve collaboration with others.  We will explore the dynamics of a great team as well as how to resolve differences of opinion. Sign up today\, you will thank yourself tomorrow! \nINSTRUCTIONS\n• Sign up for this webinar using your Job Seeker ID # at: https://attendee.gotowebinar.com/rt/8835375727485440094\n• If you do not know or have a Job Seeker ID#:\n1. Please go to JobQuest at: http://www.mass.gov/jobquest to obtain an ID#. (CTRL+Click on the http://www.mass.gov/jobquest link to open in a new tab).\n2. Return here to complete the registration using the link in the first bullet to receive credit for attending the webinar.\n• Watch for your registration confirmation email and follow the instructions provided.
URL:https://masshirespringfield.org/event/better-together-collaboration-and-teamwork-29/
CATEGORIES:Online
END:VEVENT
BEGIN:VEVENT
DTSTART;TZID=America/New_York:20260421T180000
DTEND;TZID=America/New_York:20260421T190000
DTSTAMP:20260421T055849
CREATED:20260327T132214Z
LAST-MODIFIED:20260327T135652Z
UID:20002948-1776794400-1776798000@masshirespringfield.org
SUMMARY:Avoiding AI Pitfalls
DESCRIPTION:We will explore red flags that can point to possible misinformation produced artificially\, as well as how to verify the information and data AI produces. \nINSTRUCTIONS\n• Sign up for this webinar using your Job Seeker ID # at: https://attendee.gotowebinar.com/rt/6757380115647495007\n• If you do not know or have a Job Seeker ID#:\n1. Please go to JobQuest at: http://www.mass.gov/jobquest to obtain an ID#. (CTRL+Click on the http://www.mass.gov/jobquest link to open in a new tab).\n2. Return here to complete the registration using the link in the first bullet to receive credit for attending the webinar.\n• Watch for your registration confirmation email and follow the instructions provided.
URL:https://masshirespringfield.org/event/avoiding-ai-pitfalls-2/
CATEGORIES:Online
END:VEVENT
END:VCALENDAR