BEGIN:VCALENDAR
VERSION:2.0
PRODID:-//MassHire Springfield Career Center - ECPv6.15.20//NONSGML v1.0//EN
CALSCALE:GREGORIAN
METHOD:PUBLISH
X-ORIGINAL-URL:https://masshirespringfield.org
X-WR-CALDESC:Events for MassHire Springfield Career Center
REFRESH-INTERVAL;VALUE=DURATION:PT1H
X-Robots-Tag:noindex
X-PUBLISHED-TTL:PT1H
BEGIN:VTIMEZONE
TZID:America/New_York
BEGIN:DAYLIGHT
TZOFFSETFROM:-0500
TZOFFSETTO:-0400
TZNAME:EDT
DTSTART:20250309T070000
END:DAYLIGHT
BEGIN:STANDARD
TZOFFSETFROM:-0400
TZOFFSETTO:-0500
TZNAME:EST
DTSTART:20251102T060000
END:STANDARD
BEGIN:DAYLIGHT
TZOFFSETFROM:-0500
TZOFFSETTO:-0400
TZNAME:EDT
DTSTART:20260308T070000
END:DAYLIGHT
BEGIN:STANDARD
TZOFFSETFROM:-0400
TZOFFSETTO:-0500
TZNAME:EST
DTSTART:20261101T060000
END:STANDARD
BEGIN:DAYLIGHT
TZOFFSETFROM:-0500
TZOFFSETTO:-0400
TZNAME:EDT
DTSTART:20270314T070000
END:DAYLIGHT
BEGIN:STANDARD
TZOFFSETFROM:-0400
TZOFFSETTO:-0500
TZNAME:EST
DTSTART:20271107T060000
END:STANDARD
END:VTIMEZONE
BEGIN:VEVENT
DTSTART;TZID=America/New_York:20260422T100000
DTEND;TZID=America/New_York:20260422T120000
DTSTAMP:20260424T060046
CREATED:20260318T173027Z
LAST-MODIFIED:20260318T173027Z
UID:20002897-1776852000-1776859200@masshirespringfield.org
SUMMARY:HIRING - Pascoe Workforce Solutions
DESCRIPTION:Available Position: Warehouse Workers\, CNC Lathe Machinist\, Machine Operators\, Administrative Assistant\, Quality Inspector\,  And Much More.   Please Stop By To Meet With Representative from Pascoe Workforce Solutions\, 95 Liberty Street\, 3rd Floor Springfield\, MA
URL:https://masshirespringfield.org/event/hiring-pascoe-workforce-solutions-3/
CATEGORIES:Recruitment
END:VEVENT
BEGIN:VEVENT
DTSTART;TZID=America/New_York:20260422T120000
DTEND;TZID=America/New_York:20260422T130000
DTSTAMP:20260424T060046
CREATED:20260319T152802Z
LAST-MODIFIED:20260319T152802Z
UID:20002914-1776859200-1776862800@masshirespringfield.org
SUMMARY:Resumes for Career Change-Subtitulos en Español
DESCRIPTION:Many people change careers. But how do you change your resume? Learn about customizing your resume\, “transferrable skills”\, and highlighting your qualifications for your next career.\nMucha gente cambia de carrera. ¿Pero cómo cambias tu currículum? Obtenga información sobre cómo personalizar su currículum\, “habilidades transferibles” y resaltar sus calificaciones para su próxima carrera.. \nINSTRUCTIONS\n•	Sign up for this webinar using your Job Seeker ID # at: https://attendee.gotowebinar.com/rt/3644042572784689237\n•	If you do not know or have a Job Seeker ID#:\n1.	Please go to JobQuest at: http://www.mass.gov/jobquest to obtain an ID#. (CTRL+Click on the http://www.mass.gov/jobquest link to open in a new tab).\n2.	Return here to complete the registration using the link in the first bullet to receive credit for attending the webinar.\n•	Watch for your registration confirmation email and follow the instructions provided.
URL:https://masshirespringfield.org/event/resumes-for-career-change-subtitulos-en-espanol-76/
CATEGORIES:Online
END:VEVENT
BEGIN:VEVENT
DTSTART;TZID=America/New_York:20260422T130000
DTEND;TZID=America/New_York:20260422T140000
DTSTAMP:20260424T060046
CREATED:20260327T132145Z
LAST-MODIFIED:20260327T135806Z
UID:20002940-1776862800-1776866400@masshirespringfield.org
SUMMARY:Time Management
DESCRIPTION:Are you looking to get more out of your day? Then you will want to attend this session on time management. You will learn how categorizing work can help you prioritize what is most important. You will learn to use block time scheduling to improve focus and increase your productivity. \nINSTRUCTIONS\n• Sign up for this webinar using your Job Seeker ID # at: https://attendee.gotowebinar.com/rt/3964280831205610331\n• If you do not know or have a Job Seeker ID#:\n1. Please go to JobQuest at: http://www.mass.gov/jobquest to obtain an ID#. (CTRL+Click on the http://www.mass.gov/jobquest link to open in a new tab).\n2. Return here to complete the registration using the link in the first bullet to receive credit for attending the webinar.\n• Watch for your registration confirmation email and follow the instructions provided.
URL:https://masshirespringfield.org/event/time-management-24/
CATEGORIES:Online
END:VEVENT
END:VCALENDAR