BEGIN:VCALENDAR
VERSION:2.0
PRODID:-//MassHire Springfield Career Center - ECPv6.15.20//NONSGML v1.0//EN
CALSCALE:GREGORIAN
METHOD:PUBLISH
X-ORIGINAL-URL:https://masshirespringfield.org
X-WR-CALDESC:Events for MassHire Springfield Career Center
REFRESH-INTERVAL;VALUE=DURATION:PT1H
X-Robots-Tag:noindex
X-PUBLISHED-TTL:PT1H
BEGIN:VTIMEZONE
TZID:America/New_York
BEGIN:DAYLIGHT
TZOFFSETFROM:-0500
TZOFFSETTO:-0400
TZNAME:EDT
DTSTART:20250309T070000
END:DAYLIGHT
BEGIN:STANDARD
TZOFFSETFROM:-0400
TZOFFSETTO:-0500
TZNAME:EST
DTSTART:20251102T060000
END:STANDARD
BEGIN:DAYLIGHT
TZOFFSETFROM:-0500
TZOFFSETTO:-0400
TZNAME:EDT
DTSTART:20260308T070000
END:DAYLIGHT
BEGIN:STANDARD
TZOFFSETFROM:-0400
TZOFFSETTO:-0500
TZNAME:EST
DTSTART:20261101T060000
END:STANDARD
BEGIN:DAYLIGHT
TZOFFSETFROM:-0500
TZOFFSETTO:-0400
TZNAME:EDT
DTSTART:20270314T070000
END:DAYLIGHT
BEGIN:STANDARD
TZOFFSETFROM:-0400
TZOFFSETTO:-0500
TZNAME:EST
DTSTART:20271107T060000
END:STANDARD
END:VTIMEZONE
BEGIN:VEVENT
DTSTART;TZID=America/New_York:20260428T100000
DTEND;TZID=America/New_York:20260428T113000
DTSTAMP:20260424T060720
CREATED:20260306T135729Z
LAST-MODIFIED:20260306T135729Z
UID:20002863-1777370400-1777375800@masshirespringfield.org
SUMMARY:AI for Interview Prep & Networking
DESCRIPTION:In Part Four of 50+ Job Seekers Six Part Series on AI\, Career Coach George Armstrong will demonstrate how AI may be able to help you reduce interview anxiety and build confidence in your story.\nMock interview generation –  STAR storytelling support – Researching companies & industries – Drafting networking outreach messages -Practicing age-positive framing….. Registartion: https://us06web.zoom.us/meeting/register/O5D7Fj3gQz-9YDkgzmVl9w#/registration
URL:https://masshirespringfield.org/event/ai-for-interview-prep-networking-2/
CATEGORIES:Online
END:VEVENT
BEGIN:VEVENT
DTSTART;TZID=America/New_York:20260428T100000
DTEND;TZID=America/New_York:20260428T120000
DTSTAMP:20260424T060721
CREATED:20260316T165159Z
LAST-MODIFIED:20260316T165159Z
UID:20002887-1777370400-1777377600@masshirespringfield.org
SUMMARY:HIRING - MGM Springfield
DESCRIPTION:We Are Hiring\, Open Positions: Guest Services\, Chandler Steakhouse Host\, Chandler Steakhouse Food Servers\, Hotel Property Engineer\, Banquet Cook\, And much more. \, Please Stop By To Speak With Representative from MGM Springfield\, 95 Liberty Street\, 3rd Floor\, Springfield\, MA
URL:https://masshirespringfield.org/event/hiring-mgm-springfield-8/
CATEGORIES:Recruitment
END:VEVENT
END:VCALENDAR