BEGIN:VCALENDAR
VERSION:2.0
PRODID:-//MassHire Springfield Career Center - ECPv6.15.20//NONSGML v1.0//EN
CALSCALE:GREGORIAN
METHOD:PUBLISH
X-ORIGINAL-URL:https://masshirespringfield.org
X-WR-CALDESC:Events for MassHire Springfield Career Center
REFRESH-INTERVAL;VALUE=DURATION:PT1H
X-Robots-Tag:noindex
X-PUBLISHED-TTL:PT1H
BEGIN:VTIMEZONE
TZID:America/New_York
BEGIN:DAYLIGHT
TZOFFSETFROM:-0500
TZOFFSETTO:-0400
TZNAME:EDT
DTSTART:20250309T070000
END:DAYLIGHT
BEGIN:STANDARD
TZOFFSETFROM:-0400
TZOFFSETTO:-0500
TZNAME:EST
DTSTART:20251102T060000
END:STANDARD
BEGIN:DAYLIGHT
TZOFFSETFROM:-0500
TZOFFSETTO:-0400
TZNAME:EDT
DTSTART:20260308T070000
END:DAYLIGHT
BEGIN:STANDARD
TZOFFSETFROM:-0400
TZOFFSETTO:-0500
TZNAME:EST
DTSTART:20261101T060000
END:STANDARD
BEGIN:DAYLIGHT
TZOFFSETFROM:-0500
TZOFFSETTO:-0400
TZNAME:EDT
DTSTART:20270314T070000
END:DAYLIGHT
BEGIN:STANDARD
TZOFFSETFROM:-0400
TZOFFSETTO:-0500
TZNAME:EST
DTSTART:20271107T060000
END:STANDARD
END:VTIMEZONE
BEGIN:VEVENT
DTSTART;VALUE=DATE:20260525
DTEND;VALUE=DATE:20260526
DTSTAMP:20260424T055310
CREATED:20260120T145102Z
LAST-MODIFIED:20260120T145102Z
UID:20002772-1779667200-1779753599@masshirespringfield.org
SUMMARY:CLOSED | Memorial Day
DESCRIPTION:
URL:https://masshirespringfield.org/event/closed-memorial-day/
LOCATION:MassHire Springfield Career Center\, 95 Liberty Street\, 3rd Floor\, Springfield\, MA\, 01103\, United States
CATEGORIES:Closed
END:VEVENT
BEGIN:VEVENT
DTSTART;TZID=America/New_York:20260525T120000
DTEND;TZID=America/New_York:20260525T130000
DTSTAMP:20260424T055310
CREATED:20260422T200316Z
LAST-MODIFIED:20260422T200316Z
UID:20002974-1779710400-1779714000@masshirespringfield.org
SUMMARY:Exploring the Job Market-Subtitulos en Español
DESCRIPTION:Exploring the job market means understanding what employers want\, what you need\, and what opportunities are available. Learn how to find reliable labor market information (LMI) on salaries\, job requirements\, and training for informed career decisions. Explorar el mercado laboral implica comprender qué buscan los empleadores\, qué necesitas tú y qué oportunidades están disponibles. Aprende a encontrar información fiable sobre el mercado laboral (LMI) —acerca de salarios\, requisitos de los puestos y programas de formación— para tomar decisiones profesionales fundamentadas. \nINSTRUCTIONS\n•	Sign up for this webinar using your Job Seeker ID # at: https://attendee.gotowebinar.com/rt/676145130204566110\n•	If you do not know or have a Job Seeker ID#:\n1.	Please go to JobQuest at: http://www.mass.gov/jobquest to obtain an ID#. (CTRL+Click on the http://www.mass.gov/jobquest link to open in a new tab).\n2.	Return here to complete the registration using the link in the first bullet to receive credit for attending the webinar.\n•	Watch for your registration confirmation email and follow the instructions provided.
URL:https://masshirespringfield.org/event/exploring-the-job-market-subtitulos-en-espanol-77/
END:VEVENT
END:VCALENDAR