BEGIN:VCALENDAR
VERSION:2.0
PRODID:-//MassHire Springfield Career Center - ECPv6.15.20//NONSGML v1.0//EN
CALSCALE:GREGORIAN
METHOD:PUBLISH
X-WR-CALNAME:MassHire Springfield Career Center
X-ORIGINAL-URL:https://masshirespringfield.org
X-WR-CALDESC:Events for MassHire Springfield Career Center
REFRESH-INTERVAL;VALUE=DURATION:PT1H
X-Robots-Tag:noindex
X-PUBLISHED-TTL:PT1H
BEGIN:VTIMEZONE
TZID:America/New_York
BEGIN:DAYLIGHT
TZOFFSETFROM:-0500
TZOFFSETTO:-0400
TZNAME:EDT
DTSTART:20250309T070000
END:DAYLIGHT
BEGIN:STANDARD
TZOFFSETFROM:-0400
TZOFFSETTO:-0500
TZNAME:EST
DTSTART:20251102T060000
END:STANDARD
BEGIN:DAYLIGHT
TZOFFSETFROM:-0500
TZOFFSETTO:-0400
TZNAME:EDT
DTSTART:20260308T070000
END:DAYLIGHT
BEGIN:STANDARD
TZOFFSETFROM:-0400
TZOFFSETTO:-0500
TZNAME:EST
DTSTART:20261101T060000
END:STANDARD
BEGIN:DAYLIGHT
TZOFFSETFROM:-0500
TZOFFSETTO:-0400
TZNAME:EDT
DTSTART:20270314T070000
END:DAYLIGHT
BEGIN:STANDARD
TZOFFSETFROM:-0400
TZOFFSETTO:-0500
TZNAME:EST
DTSTART:20271107T060000
END:STANDARD
END:VTIMEZONE
BEGIN:VEVENT
DTSTART;TZID=America/New_York:20260410T120000
DTEND;TZID=America/New_York:20260410T130000
DTSTAMP:20260421T044209
CREATED:20260327T132213Z
LAST-MODIFIED:20260327T134642Z
UID:20002947-1775822400-1775826000@masshirespringfield.org
SUMMARY:Avoiding AI Pitfalls
DESCRIPTION:In this session\, you will learn the power of AI and how that power can be both a help and a hazard.\nWe will explore red flags that can point to possible misinformation produced artificially\, as well as how to verify the information and data AI produces. \nINSTRUCTIONS\n• Sign up for this webinar using your Job Seeker ID # at: https://attendee.gotowebinar.com/rt/6757380115647495007\n• If you do not know or have a Job Seeker ID#:\n1. Please go to JobQuest at: http://www.mass.gov/jobquest to obtain an ID#. (CTRL+Click on the http://www.mass.gov/jobquest link to open in a new tab).\n2. Return here to complete the registration using the link in the first bullet to receive credit for attending the webinar.\n• Watch for your registration confirmation email and follow the instructions provided.
URL:https://masshirespringfield.org/event/avoiding-ai-pitfalls/
CATEGORIES:Online
END:VEVENT
END:VCALENDAR