BEGIN:VCALENDAR
VERSION:2.0
PRODID:-//MassHire Springfield Career Center - ECPv6.15.20//NONSGML v1.0//EN
CALSCALE:GREGORIAN
METHOD:PUBLISH
X-ORIGINAL-URL:https://masshirespringfield.org
X-WR-CALDESC:Events for MassHire Springfield Career Center
REFRESH-INTERVAL;VALUE=DURATION:PT1H
X-Robots-Tag:noindex
X-PUBLISHED-TTL:PT1H
BEGIN:VTIMEZONE
TZID:America/New_York
BEGIN:DAYLIGHT
TZOFFSETFROM:-0500
TZOFFSETTO:-0400
TZNAME:EDT
DTSTART:20250309T070000
END:DAYLIGHT
BEGIN:STANDARD
TZOFFSETFROM:-0400
TZOFFSETTO:-0500
TZNAME:EST
DTSTART:20251102T060000
END:STANDARD
BEGIN:DAYLIGHT
TZOFFSETFROM:-0500
TZOFFSETTO:-0400
TZNAME:EDT
DTSTART:20260308T070000
END:DAYLIGHT
BEGIN:STANDARD
TZOFFSETFROM:-0400
TZOFFSETTO:-0500
TZNAME:EST
DTSTART:20261101T060000
END:STANDARD
BEGIN:DAYLIGHT
TZOFFSETFROM:-0500
TZOFFSETTO:-0400
TZNAME:EDT
DTSTART:20270314T070000
END:DAYLIGHT
BEGIN:STANDARD
TZOFFSETFROM:-0400
TZOFFSETTO:-0500
TZNAME:EST
DTSTART:20271107T060000
END:STANDARD
END:VTIMEZONE
BEGIN:VEVENT
DTSTART;TZID=America/New_York:20260419T120000
DTEND;TZID=America/New_York:20260419T130000
DTSTAMP:20260421T060303
CREATED:20260327T132202Z
LAST-MODIFIED:20260327T135433Z
UID:20002944-1776600000-1776603600@masshirespringfield.org
SUMMARY:Surviving a Toxic Workplace
DESCRIPTION:Feeling drained by workplace drama\, poor communication\, or constant tension? This webinar offers practical tools to help you recognize toxic dynamics\, protect your mental well-being\, and reclaim your confidence. \nINSTRUCTIONS\n• Sign up for this webinar using your Job Seeker ID # at: https://attendee.gotowebinar.com/rt/8084769925528840543\n• If you do not know or have a Job Seeker ID#:\n1. Please go to JobQuest at: http://www.mass.gov/jobquest to obtain an ID#. (CTRL+Click on the http://www.mass.gov/jobquest link to open in a new tab).\n2. Return here to complete the registration using the link in the first bullet to receive credit for attending the webinar.\n• Watch for your registration confirmation email and follow the instructions provided.
URL:https://masshirespringfield.org/event/surviving-a-toxic-workplace-18/
CATEGORIES:Online
END:VEVENT
BEGIN:VEVENT
DTSTART;TZID=America/New_York:20260419T180000
DTEND;TZID=America/New_York:20260419T190000
DTSTAMP:20260421T060303
CREATED:20260319T152749Z
LAST-MODIFIED:20260416T195845Z
UID:20002912-1776621600-1776625200@masshirespringfield.org
SUMMARY:Strong Cover Letters and Great Follow-up-Subtitulos en Español
DESCRIPTION:Are cover letters necessary? The answer is “yes.” Skipping a cover letter can cost you an interview. And once you’ve been interviewed\, how do you follow up? Learn the keys to impressive cover letters and more.\n¿Son necesarias las cartas de presentación? La respuesta es “sí”. Omitir una carta de presentación puede costarle una entrevista. Y una vez que haya sido entrevistado\, ¿cómo puede hacer el seguimiento? Aprenda las claves para crear cartas de presentación impresionantes y más. \nINSTRUCTIONS\n• Sign up for this webinar using your Job Seeker ID # at: https://attendee.gotowebinar.com/rt/4734504120402664282\n• If you do not know or have a Job Seeker ID#:\n1. Please go to JobQuest at: http://www.mass.gov/jobquest to obtain an ID#. (CTRL+Click on the http://www.mass.gov/jobquest link to open in a new tab).\n2. Return here to complete the registration using the link in the first bullet to receive credit for attending the webinar.\n• Watch for your registration confirmation email and follow the instructions provided.
URL:https://masshirespringfield.org/event/strong-cover-letters-and-great-follow-up-subtitulos-en-espanol-83/
CATEGORIES:Online
END:VEVENT
END:VCALENDAR