BEGIN:VCALENDAR
VERSION:2.0
PRODID:-//MassHire Springfield Career Center - ECPv6.15.20//NONSGML v1.0//EN
CALSCALE:GREGORIAN
METHOD:PUBLISH
X-WR-CALNAME:MassHire Springfield Career Center
X-ORIGINAL-URL:https://masshirespringfield.org
X-WR-CALDESC:Events for MassHire Springfield Career Center
REFRESH-INTERVAL;VALUE=DURATION:PT1H
X-Robots-Tag:noindex
X-PUBLISHED-TTL:PT1H
BEGIN:VTIMEZONE
TZID:America/New_York
BEGIN:DAYLIGHT
TZOFFSETFROM:-0500
TZOFFSETTO:-0400
TZNAME:EDT
DTSTART:20250309T070000
END:DAYLIGHT
BEGIN:STANDARD
TZOFFSETFROM:-0400
TZOFFSETTO:-0500
TZNAME:EST
DTSTART:20251102T060000
END:STANDARD
BEGIN:DAYLIGHT
TZOFFSETFROM:-0500
TZOFFSETTO:-0400
TZNAME:EDT
DTSTART:20260308T070000
END:DAYLIGHT
BEGIN:STANDARD
TZOFFSETFROM:-0400
TZOFFSETTO:-0500
TZNAME:EST
DTSTART:20261101T060000
END:STANDARD
BEGIN:DAYLIGHT
TZOFFSETFROM:-0500
TZOFFSETTO:-0400
TZNAME:EDT
DTSTART:20270314T070000
END:DAYLIGHT
BEGIN:STANDARD
TZOFFSETFROM:-0400
TZOFFSETTO:-0500
TZNAME:EST
DTSTART:20271107T060000
END:STANDARD
END:VTIMEZONE
BEGIN:VEVENT
DTSTART;TZID=America/New_York:20260426T100000
DTEND;TZID=America/New_York:20260426T110000
DTSTAMP:20260423T050952
CREATED:20260319T152805Z
LAST-MODIFIED:20260319T152805Z
UID:20002918-1777197600-1777201200@masshirespringfield.org
SUMMARY:Beyond the Basics: Build a Winning Resume-Subtitulos en Español
DESCRIPTION:Winning resumes do more than list skills and experience. They highlight achievements and strengths that help you compete. Join us for strategies\, samples\, and tips.\nLos currículums ganadores hacen más que enumerar habilidades y experiencia. Destacan logros y fortalezas que te ayudan a competir. Únase a nosotros para obtener estrategias\, ejemplos y consejos. \nINSTRUCTIONS\n•	Sign up for this webinar using your Job Seeker ID # at: https://attendee.gotowebinar.com/rt/4167655298697485146\n•	If you do not know or have a Job Seeker ID#:\n1.	Please go to JobQuest at: http://www.mass.gov/jobquest to obtain an ID#. (CTRL+Click on the http://www.mass.gov/jobquest link to open in a new tab).\n2.	Return here to complete the registration using the link in the first bullet to receive credit for attending the webinar.\n•	Watch for your registration confirmation email and follow the instructions provided.
URL:https://masshirespringfield.org/event/beyond-the-basics-build-a-winning-resume-subtitulos-en-espanol-49/
CATEGORIES:Online
END:VEVENT
BEGIN:VEVENT
DTSTART;TZID=America/New_York:20260426T180000
DTEND;TZID=America/New_York:20260426T190000
DTSTAMP:20260423T050952
CREATED:20260319T152817Z
LAST-MODIFIED:20260323T185107Z
UID:20002919-1777226400-1777230000@masshirespringfield.org
SUMMARY:Applying Online-Subtitulos en Español
DESCRIPTION:An effective job search includes knowing how to apply online. Many people find this overwhelming\, and everyone agrees it takes time. The good news is that some simple guidelines can save you time and trouble. Join us for tips to increase your online success.\nUna búsqueda de empleo eficaz incluye saber cómo presentar una solicitud en línea. Muchas personas encuentran esto abrumador y todos están de acuerdo en que lleva tiempo. La buena noticia es que algunas pautas simples pueden ahorrarle tiempo y problemas. Únase a nosotros para obtener consejos para aumentar su éxito en línea. \nINSTRUCTIONS\n• Sign up for this webinar using your Job Seeker ID # at: https://attendee.gotowebinar.com/rt/7713716637716354655\n• If you do not know or have a Job Seeker ID#:\n1. Please go to JobQuest at: http://www.mass.gov/jobquest to obtain an ID#. (CTRL+Click on the http://www.mass.gov/jobquest link to open in a new tab).\n2. Return here to complete the registration using the link in the first bullet to receive credit for attending the webinar.\n• Watch for your registration confirmation email and follow the instructions provided.
URL:https://masshirespringfield.org/event/applying-online-subtitulos-en-espanol-79/
CATEGORIES:Online
END:VEVENT
END:VCALENDAR