BEGIN:VCALENDAR
VERSION:2.0
PRODID:-//MassHire Springfield Career Center - ECPv6.15.20//NONSGML v1.0//EN
CALSCALE:GREGORIAN
METHOD:PUBLISH
X-WR-CALNAME:MassHire Springfield Career Center
X-ORIGINAL-URL:https://masshirespringfield.org
X-WR-CALDESC:Events for MassHire Springfield Career Center
REFRESH-INTERVAL;VALUE=DURATION:PT1H
X-Robots-Tag:noindex
X-PUBLISHED-TTL:PT1H
BEGIN:VTIMEZONE
TZID:America/New_York
BEGIN:DAYLIGHT
TZOFFSETFROM:-0500
TZOFFSETTO:-0400
TZNAME:EDT
DTSTART:20250309T070000
END:DAYLIGHT
BEGIN:STANDARD
TZOFFSETFROM:-0400
TZOFFSETTO:-0500
TZNAME:EST
DTSTART:20251102T060000
END:STANDARD
BEGIN:DAYLIGHT
TZOFFSETFROM:-0500
TZOFFSETTO:-0400
TZNAME:EDT
DTSTART:20260308T070000
END:DAYLIGHT
BEGIN:STANDARD
TZOFFSETFROM:-0400
TZOFFSETTO:-0500
TZNAME:EST
DTSTART:20261101T060000
END:STANDARD
BEGIN:DAYLIGHT
TZOFFSETFROM:-0500
TZOFFSETTO:-0400
TZNAME:EDT
DTSTART:20270314T070000
END:DAYLIGHT
BEGIN:STANDARD
TZOFFSETFROM:-0400
TZOFFSETTO:-0500
TZNAME:EST
DTSTART:20271107T060000
END:STANDARD
END:VTIMEZONE
BEGIN:VEVENT
DTSTART;TZID=America/New_York:20260502T180000
DTEND;TZID=America/New_York:20260502T190000
DTSTAMP:20260423T044351
CREATED:20260319T152833Z
LAST-MODIFIED:20260422T200239Z
UID:20002926-1777744800-1777748400@masshirespringfield.org
SUMMARY:Managing Financial Stress-Subtitulos en Español
DESCRIPTION:If you’re worried about money\, you’re not alone\, especially during these tough economic times. Financial problems are a major source of stress for many people and have an enormous impact on our health and happiness. We’ll cover strategies to manage financial stress and how MassHire Springfield can help you move ahead.\nSi le preocupa el dinero\, no está solo\, especialmente durante estos tiempos económicos difíciles. Los problemas financieros son una fuente importante de estrés para muchas personas y tienen un enorme impacto en nuestra salud y felicidad. Cubriremos estrategias para manejar el estrés financiero y cómo MassHire Springfield puede ayudarlo a avanzar. \nINSTRUCTIONS\n•	Sign up for this webinar using your Job Seeker ID # at: https://attendee.gotowebinar.com/rt/874175969839139925\n•	If you do not know or have a Job Seeker ID#:\n1.	Please go to JobQuest at: http://www.mass.gov/jobquest to obtain an ID#. (CTRL+Click on the http://www.mass.gov/jobquest link to open in a new tab).\n2.	Return here to complete the registration using the link in the first bullet to receive credit for attending the webinar.\n•	Watch for your registration confirmation email and follow the instructions provided.
URL:https://masshirespringfield.org/event/managing-financial-stress-subtitulos-en-espanol-80/
CATEGORIES:Online
END:VEVENT
BEGIN:VEVENT
DTSTART;TZID=America/New_York:20260503T180000
DTEND;TZID=America/New_York:20260503T190000
DTSTAMP:20260423T044351
CREATED:20260319T152834Z
LAST-MODIFIED:20260422T200241Z
UID:20002927-1777831200-1777834800@masshirespringfield.org
SUMMARY:Mature Workers-Preparing for Today's Job Search-Subtitulos en Español
DESCRIPTION:More people work later in life than ever before. We’ll cover resumes\, interviews\, ageism\, helpful resources\, and the value of older workers. Learn about this important stage in your life and career.\nMás personas trabajan más tarde en la vida que nunca. Cubriremos currículos\, entrevistas\, discriminación por edad\, recursos útiles y el valor de los trabajadores mayores. Aprende sobre esta etapa tan importante en tu vida y carrera. \nINSTRUCTIONS\n•	Sign up for this webinar using your Job Seeker ID # at: https://attendee.gotowebinar.com/rt/3374274096378019680\n•	If you do not know or have a Job Seeker ID#:\n1.	Please go to JobQuest at: http://www.mass.gov/jobquest to obtain an ID#. (CTRL+Click on the http://www.mass.gov/jobquest link to open in a new tab).\n2.	Return here to complete the registration using the link in the first bullet to receive credit for attending the webinar.\n•	Watch for your registration confirmation email and follow the instructions provided.
URL:https://masshirespringfield.org/event/mature-workers-preparing-for-todays-job-search-subtitulos-en-espanol-87/
CATEGORIES:Online
END:VEVENT
BEGIN:VEVENT
DTSTART;TZID=America/New_York:20260504T100000
DTEND;TZID=America/New_York:20260504T113000
DTSTAMP:20260423T044351
CREATED:20260303T205225Z
LAST-MODIFIED:20260306T135731Z
UID:20002860-1777888800-1777894200@masshirespringfield.org
SUMMARY:AI at Work: Productivity & Communication Skills
DESCRIPTION:In Part Five of 50+ Job Seekers Six Part Series on AI\, join our Guest Presenter Zara Massoud as she continues to build your foundational knowledge regarding Artificial Intelligence for real-world workplace usage.\n•	Writing support (emails\, reports\, web content) –  •	Summarizing meetings/documents – •	Research & analysis –  •	Task planning & prioritization….. Registartion: https://us06web.zoom.us/meeting/register/xRRYF6CpSYu9iSwUEo93rQ#/registration
URL:https://masshirespringfield.org/event/ai-at-work-productivity-communication-skills/
CATEGORIES:Online
END:VEVENT
BEGIN:VEVENT
DTSTART;TZID=America/New_York:20260517T100000
DTEND;TZID=America/New_York:20260517T110000
DTSTAMP:20260423T044351
CREATED:20260422T200306Z
LAST-MODIFIED:20260422T200306Z
UID:20002967-1779012000-1779015600@masshirespringfield.org
SUMMARY:Don’t Let an “ATS” Trash Your Resume-Subtitulos en Español
DESCRIPTION:“ATS” stands for “Applicant Tracking System.” These are software programs that screen your resume when you apply online and most employers use them. Learn to “conquer the robot” for successful online applications. “ATS” significa “Sistema de seguimiento de candidatos.”  Estos son programas de software que examinan su currículum cuando presenta su solicitud en línea y la mayoría de los empleadores los utilizan. Aprenda a “conquistar al robot” para obtener solicitudes en línea exitosas. \nINSTRUCTIONS\n•	Sign up for this webinar using your Job Seeker ID # at: https://attendee.gotowebinar.com/rt/2647962004459261532\n•	If you do not know or have a Job Seeker ID#:\n1.	Please go to JobQuest at: http://www.mass.gov/jobquest to obtain an ID#. (CTRL+Click on the http://www.mass.gov/jobquest link to open in a new tab).\n2.	Return here to complete the registration using the link in the first bullet to receive credit for attending the webinar.\n•	Watch for your registration confirmation email and follow the instructions provided.
URL:https://masshirespringfield.org/event/dont-let-an-ats-trash-your-resume-subtitulos-en-espanol-88/
CATEGORIES:Online
END:VEVENT
BEGIN:VEVENT
DTSTART;TZID=America/New_York:20260517T180000
DTEND;TZID=America/New_York:20260517T190000
DTSTAMP:20260423T044351
CREATED:20260422T200306Z
LAST-MODIFIED:20260422T200306Z
UID:20002968-1779040800-1779044400@masshirespringfield.org
SUMMARY:Applying Online-Subtitulos en Español
DESCRIPTION:An effective job search includes knowing how to apply online. Many people find this overwhelming\, and everyone agrees it takes time. The good news is that some simple guidelines can save you time and trouble. Join us for tips to increase your online success.\nUna búsqueda de empleo eficaz incluye saber cómo presentar una solicitud en línea. Muchas personas encuentran esto abrumador y todos están de acuerdo en que lleva tiempo. La buena noticia es que algunas pautas simples pueden ahorrarle tiempo y problemas. Únase a nosotros para obtener consejos para aumentar su éxito en línea. \nINSTRUCTIONS\n•	Sign up for this webinar using your Job Seeker ID # at: https://attendee.gotowebinar.com/rt/365107584354782301\n•	If you do not know or have a Job Seeker ID#:\n1.	Please go to JobQuest at: http://www.mass.gov/jobquest to obtain an ID#. (CTRL+Click on the http://www.mass.gov/jobquest link to open in a new tab).\n2.	Return here to complete the registration using the link in the first bullet to receive credit for attending the webinar.\n•	Watch for your registration confirmation email and follow the instructions provided.
URL:https://masshirespringfield.org/event/applying-online-subtitulos-en-espanol-82/
CATEGORIES:Online
END:VEVENT
BEGIN:VEVENT
DTSTART;TZID=America/New_York:20260518T140000
DTEND;TZID=America/New_York:20260518T150000
DTSTAMP:20260423T044351
CREATED:20260422T200307Z
LAST-MODIFIED:20260422T200307Z
UID:20002969-1779112800-1779116400@masshirespringfield.org
SUMMARY:Resume Questions and Answers-Subtitulos en Español
DESCRIPTION:This session is a live webinar.“Should my resume be one page or two?” “How do I explain the years I was unemployed?” “Do I really have to change my resume for each job?” These are just some of the many resume questions we hear\, and we know there are many more. Join us for guidelines\, tips\, and the latest resume trends. (We recommend bringing your resume and a question or two you’d like answered.)\nEsta sesión es un seminario web en vivo.  “¿Mi currículum debe tener una página o dos?” “¿Cómo explico los años que estuve desempleado?” “¿Realmente tengo que cambiar mi currículum para cada trabajo?” Estas son sólo algunas de las muchas preguntas sobre currículums que escuchamos y sabemos que hay muchas más. Únase a nosotros para obtener pautas\, consejos y las últimas tendencias en currículums. (Recomendamos traer su currículum y una o dos preguntas que le gustaría responder). \nINSTRUCTIONS\n•	Sign up for this webinar using your Job Seeker ID # at: https://attendee.gotowebinar.com/rt/4014963920548579163\n•	If you do not know or have a Job Seeker ID#:\n1.	Please go to JobQuest at: http://www.mass.gov/jobquest to obtain an ID#. (CTRL+Click on the http://www.mass.gov/jobquest link to open in a new tab).\n2.	Return here to complete the registration using the link in the first bullet to receive credit for attending the webinar.\n•	Watch for your registration confirmation email and follow the instructions provided.
URL:https://masshirespringfield.org/event/resume-questions-and-answers-subtitulos-en-espanol-81/
CATEGORIES:Online
END:VEVENT
BEGIN:VEVENT
DTSTART;TZID=America/New_York:20260520T120000
DTEND;TZID=America/New_York:20260520T130000
DTSTAMP:20260423T044351
CREATED:20260422T200308Z
LAST-MODIFIED:20260422T200308Z
UID:20002970-1779278400-1779282000@masshirespringfield.org
SUMMARY:Changing Careers-Subtitulos en Español
DESCRIPTION:Many people change careers. Their reasons range from rapid changes in today’s job market to new professional and personal goals. Join us for helpful tools and information about this important career and life decision.\nMucha gente cambia de carrera. Sus razones van desde los rápidos cambios en el mercado laboral actual hasta nuevas metas profesionales y personales. Únase a nosotros para obtener herramientas útiles e información sobre esta importante decisión profesional. \nINSTRUCTIONS\n•	Sign up for this webinar using your Job Seeker ID # at: https://attendee.gotowebinar.com/rt/4099581235916215899\n•	If you do not know or have a Job Seeker ID#:\n1.	Please go to JobQuest at: http://www.mass.gov/jobquest to obtain an ID#. (CTRL+Click on the http://www.mass.gov/jobquest link to open in a new tab).\n2.	Return here to complete the registration using the link in the first bullet to receive credit for attending the webinar.\n•	Watch for your registration confirmation email and follow the instructions provided.
URL:https://masshirespringfield.org/event/changing-careers-subtitulos-en-espanol-81/
CATEGORIES:Online
END:VEVENT
BEGIN:VEVENT
DTSTART;TZID=America/New_York:20260521T180000
DTEND;TZID=America/New_York:20260521T190000
DTSTAMP:20260423T044351
CREATED:20260422T200309Z
LAST-MODIFIED:20260422T200309Z
UID:20002971-1779386400-1779390000@masshirespringfield.org
SUMMARY:Job Search Today - Subitulos en Español
DESCRIPTION:Today’s job search requires understanding the labor market\, employers’ expectations\, and how to compete. Join us for effective strategies\, tools\, and techniques for success. La búsqueda de empleo actual exige comprender el mercado laboral\, las expectativas de los empleadores y cómo competir. Acompáñenos para conocer estrategias\, herramientas y técnicas eficaces para alcanzar el éxito. \nINSTRUCTIONS\n•	Sign up for this webinar using your Job Seeker ID # at: https://attendee.gotowebinar.com/rt/5026765306753430367\n•	If you do not know or have a Job Seeker ID#:\n1.	Please go to JobQuest at: http://www.mass.gov/jobquest to obtain an ID#. (CTRL+Click on the http://www.mass.gov/jobquest link to open in a new tab).\n2.	Return here to complete the registration using the link in the first bullet to receive credit for attending the webinar.\n•	Watch for your registration confirmation email and follow the instructions provided.
URL:https://masshirespringfield.org/event/job-search-today-subitulos-en-espanol-77/
CATEGORIES:Online
END:VEVENT
BEGIN:VEVENT
DTSTART;TZID=America/New_York:20260530T100000
DTEND;TZID=America/New_York:20260530T110000
DTSTAMP:20260423T044351
CREATED:20260422T200321Z
LAST-MODIFIED:20260422T200321Z
UID:20002977-1780135200-1780138800@masshirespringfield.org
SUMMARY:Resume Questions and Answers-Subtitulos en Español
DESCRIPTION:“Should my resume be one page or two?” “How do I explain the years I was unemployed?” “Do I really have to change my resume for each job?” These are just some of the many resume questions we hear\, and we know there are many more. Join us for guidelines\, tips\, and the latest resume trends. (We recommend bringing your resume and a question or two you’d like answered.)\n“¿Mi currículum debe tener una página o dos?” “¿Cómo explico los años que estuve desempleado?” “¿Realmente tengo que cambiar mi currículum para cada trabajo?” Estas son sólo algunas de las muchas preguntas sobre currículums que escuchamos y sabemos que hay muchas más. Únase a nosotros para obtener pautas\, consejos y las últimas tendencias en currículums. (Recomendamos traer su currículum y una o dos preguntas que le gustaría responder). \nINSTRUCTIONS\n•	Sign up for this webinar using your Job Seeker ID # at: https://attendee.gotowebinar.com/rt/7675534997554531167\n•	If you do not know or have a Job Seeker ID#:\n1.	Please go to JobQuest at: http://www.mass.gov/jobquest to obtain an ID#. (CTRL+Click on the http://www.mass.gov/jobquest link to open in a new tab).\n2.	Return here to complete the registration using the link in the first bullet to receive credit for attending the webinar.\n•	Watch for your registration confirmation email and follow the instructions provided.
URL:https://masshirespringfield.org/event/resume-questions-and-answers-subtitulos-en-espanol-82/
CATEGORIES:Online
END:VEVENT
BEGIN:VEVENT
DTSTART;TZID=America/New_York:20260531T100000
DTEND;TZID=America/New_York:20260531T110000
DTSTAMP:20260423T044351
CREATED:20260422T200321Z
LAST-MODIFIED:20260422T200321Z
UID:20002978-1780221600-1780225200@masshirespringfield.org
SUMMARY:Handling Tough Interview Questions-Subtitulos en Español
DESCRIPTION:The keys to effective interviews are preparation and practice. That’s especially true for questions that challenge us. Learn what to do before\, during\, and after your interview and how to skillfully address your interview concerns.\nLas claves para una entrevista eficaz son la preparación y la práctica. Esto es especialmente cierto para las preguntas que nos desafían. Aprenda qué hacer antes\, durante y después de su entrevista y cómo abordar hábilmente sus inquietudes durante la entrevista. \nINSTRUCTIONS\n•	Sign up for this webinar using your Job Seeker ID # at: https://attendee.gotowebinar.com/rt/8887649810137342295\n•	If you do not know or have a Job Seeker ID#:\n1.	Please go to JobQuest at: http://www.mass.gov/jobquest to obtain an ID#. (CTRL+Click on the http://www.mass.gov/jobquest link to open in a new tab).\n2.	Return here to complete the registration using the link in the first bullet to receive credit for attending the webinar.\n•	Watch for your registration confirmation email and follow the instructions provided.
URL:https://masshirespringfield.org/event/handling-tough-interview-questions-subtitulos-en-espanol-84/
CATEGORIES:Online
END:VEVENT
BEGIN:VEVENT
DTSTART;TZID=America/New_York:20260531T180000
DTEND;TZID=America/New_York:20260531T190000
DTSTAMP:20260423T044351
CREATED:20260422T200322Z
LAST-MODIFIED:20260422T200322Z
UID:20002979-1780250400-1780254000@masshirespringfield.org
SUMMARY:Moving Past Job Loss-Subtitulos en Español
DESCRIPTION:Job loss is a major event that affects our lives in many ways. These include grief\, stress\, financial concerns\, and finding ways to move on. Join us for important resources and ideas that can help.\nLa pérdida de empleo es un evento importante que afecta nuestras vidas de muchas maneras. Estos incluyen duelo\, estrés y encontrar formas de seguir adelante. Únase a nosotros para obtener recursos e ideas importantes que pueden ayudar. \nINSTRUCTIONS\n•	Sign up for this webinar using your Job Seeker ID # at: https://attendee.gotowebinar.com/rt/9200414688767756117\n•	If you do not know or have a Job Seeker ID#:\n1.	Please go to JobQuest at: http://www.mass.gov/jobquest to obtain an ID#. (CTRL+Click on the http://www.mass.gov/jobquest link to open in a new tab).\n2.	Return here to complete the registration using the link in the first bullet to receive credit for attending the webinar.\n•	Watch for your registration confirmation email and follow the instructions provided.
URL:https://masshirespringfield.org/event/moving-past-job-loss-subtitulos-en-espanol-83/
CATEGORIES:Online
END:VEVENT
BEGIN:VEVENT
DTSTART;TZID=America/New_York:20260601T180000
DTEND;TZID=America/New_York:20260601T190000
DTSTAMP:20260423T044351
CREATED:20260422T200323Z
LAST-MODIFIED:20260422T200323Z
UID:20002980-1780336800-1780340400@masshirespringfield.org
SUMMARY:Strong Cover Letters and Great Follow-up-Subtitulos en Español
DESCRIPTION:Are cover letters necessary? The answer is “yes.” Skipping a cover letter can cost you an interview. And once you’ve been interviewed\, how do you follow up? Learn the keys to impressive cover letters and more.\n¿Son necesarias las cartas de presentación? La respuesta es “sí”. Omitir una carta de presentación puede costarle una entrevista. Y una vez que haya sido entrevistado\, ¿cómo puede hacer el seguimiento? Aprenda las claves para crear cartas de presentación impresionantes y más. \nINSTRUCTIONS\n•	Sign up for this webinar using your Job Seeker ID # at: https://attendee.gotowebinar.com/rt/3001062467117913178\n•	If you do not know or have a Job Seeker ID#:\n1.	Please go to JobQuest at: http://www.mass.gov/jobquest to obtain an ID#. (CTRL+Click on the http://www.mass.gov/jobquest link to open in a new tab).\n2.	Return here to complete the registration using the link in the first bullet to receive credit for attending the webinar.\n•	Watch for your registration confirmation email and follow the instructions provided.
URL:https://masshirespringfield.org/event/strong-cover-letters-and-great-follow-up-subtitulos-en-espanol-86/
CATEGORIES:Online
END:VEVENT
BEGIN:VEVENT
DTSTART;TZID=America/New_York:20260603T140000
DTEND;TZID=America/New_York:20260603T150000
DTSTAMP:20260423T044351
CREATED:20260422T200324Z
LAST-MODIFIED:20260422T200324Z
UID:20002981-1780495200-1780498800@masshirespringfield.org
SUMMARY:Mature Workers-Preparing for Today's Job Search-Subtitulos en Español
DESCRIPTION:More people work later in life than ever before. We’ll cover resumes\, interviews\, ageism\, helpful resources\, and the value of older workers. Learn about this important stage in your life and career.\nMás personas trabajan más tarde en la vida que nunca. Cubriremos currículos\, entrevistas\, discriminación por edad\, recursos útiles y el valor de los trabajadores mayores. Aprende sobre esta etapa tan importante en tu vida y carrera. \nINSTRUCTIONS\n•	Sign up for this webinar using your Job Seeker ID # at: https://attendee.gotowebinar.com/rt/6773498956660840282\n•	If you do not know or have a Job Seeker ID#:\n1.	Please go to JobQuest at: http://www.mass.gov/jobquest to obtain an ID#. (CTRL+Click on the http://www.mass.gov/jobquest link to open in a new tab).\n2.	Return here to complete the registration using the link in the first bullet to receive credit for attending the webinar.\n•	Watch for your registration confirmation email and follow the instructions provided.
URL:https://masshirespringfield.org/event/mature-workers-preparing-for-todays-job-search-subtitulos-en-espanol-89/
CATEGORIES:Online
END:VEVENT
END:VCALENDAR