BEGIN:VCALENDAR
VERSION:2.0
PRODID:-//MassHire Springfield Career Center - ECPv6.15.20//NONSGML v1.0//EN
CALSCALE:GREGORIAN
METHOD:PUBLISH
X-ORIGINAL-URL:https://masshirespringfield.org
X-WR-CALDESC:Events for MassHire Springfield Career Center
REFRESH-INTERVAL;VALUE=DURATION:PT1H
X-Robots-Tag:noindex
X-PUBLISHED-TTL:PT1H
BEGIN:VTIMEZONE
TZID:America/New_York
BEGIN:DAYLIGHT
TZOFFSETFROM:-0500
TZOFFSETTO:-0400
TZNAME:EDT
DTSTART:20250309T070000
END:DAYLIGHT
BEGIN:STANDARD
TZOFFSETFROM:-0400
TZOFFSETTO:-0500
TZNAME:EST
DTSTART:20251102T060000
END:STANDARD
BEGIN:DAYLIGHT
TZOFFSETFROM:-0500
TZOFFSETTO:-0400
TZNAME:EDT
DTSTART:20260308T070000
END:DAYLIGHT
BEGIN:STANDARD
TZOFFSETFROM:-0400
TZOFFSETTO:-0500
TZNAME:EST
DTSTART:20261101T060000
END:STANDARD
BEGIN:DAYLIGHT
TZOFFSETFROM:-0500
TZOFFSETTO:-0400
TZNAME:EDT
DTSTART:20270314T070000
END:DAYLIGHT
BEGIN:STANDARD
TZOFFSETFROM:-0400
TZOFFSETTO:-0500
TZNAME:EST
DTSTART:20271107T060000
END:STANDARD
END:VTIMEZONE
BEGIN:VEVENT
DTSTART;TZID=America/New_York:20260324T100000
DTEND;TZID=America/New_York:20260324T120000
DTSTAMP:20260423T094417
CREATED:20260318T152712Z
LAST-MODIFIED:20260318T153516Z
UID:20002890-1774346400-1774353600@masshirespringfield.org
SUMMARY:Community Buzz
DESCRIPTION:A Variety of companies providing services to Job Seekers who may be in need of these services….Don’t miss the chance to speak with them!!
URL:https://masshirespringfield.org/event/community-buzz-10/
CATEGORIES:Workshop
END:VEVENT
BEGIN:VEVENT
DTSTART;TZID=America/New_York:20260325T140000
DTEND;TZID=America/New_York:20260325T140000
DTSTAMP:20260423T094417
CREATED:20260316T153358Z
LAST-MODIFIED:20260316T153358Z
UID:20002886-1774447200-1774447200@masshirespringfield.org
SUMMARY:50+ Connecting the Dots
DESCRIPTION:This dynamic workshop is designed to help you build meaningful connections\, sharpen your communication skills\, and unlock the power of professional relationships. Whether you’re just starting out or looking to expand your circle\, you’ll leave with practical tools\, fresh confidence\, and a network that works for you. Come connect the dots—and watch your future take shape. \nCall ahead to reserve your spot…413-858-2800!  This is an in-person workshop that will take place at 95 Liberty Street\, 3rd Fl.\, Springfield\, MA.
URL:https://masshirespringfield.org/event/50-connecting-the-dots/
CATEGORIES:Workshop
END:VEVENT
END:VCALENDAR